BEGIN:VCALENDAR
PRODID:-//Det Danske Spejderkorps//NONSGML Gruppeweb//EN
VERSION:2.0
CALSCALE:GREGORIAN
X-PUBLISHED-TTL:PT1H
X-WR-CALNAME:Minier i Karup Gruppen
METHOD:PUBLISH
BEGIN:VEVENT
UID:gruppeweb.dk:6304:event:111
DTSTAMP:20260423T034656Z
LAST-MODIFIED:20250508T145327Z
SUMMARY:Divisionsturnering 2025
DESCRIPTION:\n
URL:https://karupspejderne.dk/begivenhed/divisionsturnering-2025
DTSTART:20250516T150000Z
DTEND:20250518T100000Z
LOCATION:Karup Gruppen\, Vallerbækvej 6B\, 7470 Karup J
END:VEVENT
BEGIN:VEVENT
UID:gruppeweb.dk:6304:event:114
DTSTAMP:20260423T034656Z
LAST-MODIFIED:20250602T164219Z
SUMMARY:Sommerlejr 2025
DESCRIPTION:\nDet koster 300 kr. at deltage\, men så får man også en mas
 se gode  \noplevelser sammen med spejdere fra mange grupper.\n\n\n
URL:https://karupspejderne.dk/begivenhed/sommerlejr-2025
DTSTART:20250709T080000Z
DTEND:20250712T170500Z
LOCATION:Karup Gruppen\, Vallerbækvej 6B\, 7470 Karup J
END:VEVENT
BEGIN:VEVENT
UID:gruppeweb.dk:6304:event:115
DTSTAMP:20260423T034656Z
LAST-MODIFIED:20250908T161426Z
SUMMARY:M.U.S. løb 2025
DESCRIPTION:M.U.S løbet er for mikro- og minispejdere samt tilsvarende ald
 erstrin ved de  \nandre spejderkorps. Løbet arrangeres af Skt. Georgsgild
 erne\, der er en  \nforening af primært tidligere spejdere.\n\n
URL:https://karupspejderne.dk/begivenhed/mus-loeb-2025
DTSTART:20250920T070000Z
DTEND:20250920T120000Z
LOCATION:Karup Gruppen\, Vallerbækvej 6B\, 7470 Karup J
END:VEVENT
BEGIN:VEVENT
UID:gruppeweb.dk:6304:event:133
DTSTAMP:20260423T034656Z
LAST-MODIFIED:20260117T132407Z
SUMMARY:Minitræf 2026
DESCRIPTION:Minitræf 2026 afholdes i Kpmpedallejren\, hvor vi skal lave en
  masse  \nspændende aktiviteter sammen med minierne fra de andre spejderg
 rupper i  \ndivisionen 🙂 \n\n
URL:https://karupspejderne.dk/begivenhed/minitraef-2026
DTSTART:20260131T080000Z
DTEND:20260201T090000Z
LOCATION:Karup Gruppen\, Vallerbækvej 6B\, 7470 Karup J
END:VEVENT
BEGIN:VEVENT
UID:gruppeweb.dk:6304:event:175
DTSTAMP:20260423T034656Z
LAST-MODIFIED:20260301T195211Z
SUMMARY:Divisionsturnering 2026
DESCRIPTION:\n
URL:https://karupspejderne.dk/begivenhed/divisionsturnering-2026
DTSTART:20260424T163000Z
DTEND:20260426T100000Z
LOCATION:Karup Gruppen\, Vallerbækvej 6B\, 7470 Karup J
END:VEVENT
END:VCALENDAR
